BEGIN:VCALENDAR
VERSION:2.0
PRODID:-//The Myrtle Tavern - ECPv6.15.20//NONSGML v1.0//EN
CALSCALE:GREGORIAN
METHOD:PUBLISH
X-ORIGINAL-URL:https://myrtletavern.co.uk
X-WR-CALDESC:Events for The Myrtle Tavern
REFRESH-INTERVAL;VALUE=DURATION:PT1H
X-Robots-Tag:noindex
X-PUBLISHED-TTL:PT1H
BEGIN:VTIMEZONE
TZID:Europe/London
BEGIN:DAYLIGHT
TZOFFSETFROM:+0000
TZOFFSETTO:+0100
TZNAME:BST
DTSTART:20230326T010000
END:DAYLIGHT
BEGIN:STANDARD
TZOFFSETFROM:+0100
TZOFFSETTO:+0000
TZNAME:GMT
DTSTART:20231029T010000
END:STANDARD
BEGIN:DAYLIGHT
TZOFFSETFROM:+0000
TZOFFSETTO:+0100
TZNAME:BST
DTSTART:20240331T010000
END:DAYLIGHT
BEGIN:STANDARD
TZOFFSETFROM:+0100
TZOFFSETTO:+0000
TZNAME:GMT
DTSTART:20241027T010000
END:STANDARD
BEGIN:DAYLIGHT
TZOFFSETFROM:+0000
TZOFFSETTO:+0100
TZNAME:BST
DTSTART:20250330T010000
END:DAYLIGHT
BEGIN:STANDARD
TZOFFSETFROM:+0100
TZOFFSETTO:+0000
TZNAME:GMT
DTSTART:20251026T010000
END:STANDARD
END:VTIMEZONE
BEGIN:VEVENT
DTSTART;TZID=Europe/London:20240822T200000
DTEND;TZID=Europe/London:20240822T230000
DTSTAMP:20260423T113912
CREATED:20240729T095155Z
LAST-MODIFIED:20240729T095156Z
UID:4240-1724356800-1724367600@myrtletavern.co.uk
SUMMARY:Rock & Roll Bingo Summer Special
DESCRIPTION:Get ready to test your music knowledge and have some fun with friends. Our Rock & Roll Bingo nights are back by popular demand\, offering an entertaining mix of music-themed games and challenges. For just £6 per person\, you’ll enjoy a night packed with excitement\, including a lively music quiz\, rock and roll bingo\, and the chance to Play Your Cards Right. \n\n\n\nGather your friends\, unleash your inner music enthusiast\, and compete for fantastic prizes. Whether you’re a die-hard music fan or just looking for a fun night out\, our Rock & Roll Bingo Quiz Nights promise a fun filled night!  \n\n\n\n\nBOOK NOW
URL:https://myrtletavern.co.uk/event/rock-roll-bingo-summer-special/
LOCATION:The Myrtle Tavern\, Parkside Road\, Leeds\, LS6 4NE\, United Kingdom
CATEGORIES:Quiz
ATTACH;FMTTYPE=image/jpeg:https://myrtletavern.co.uk/wp-content/uploads/2024/06/rr-summer.jpg
END:VEVENT
END:VCALENDAR