BEGIN:VCALENDAR
VERSION:2.0
PRODID:-//The Myrtle Tavern - ECPv6.15.20//NONSGML v1.0//EN
CALSCALE:GREGORIAN
METHOD:PUBLISH
X-WR-CALNAME:The Myrtle Tavern
X-ORIGINAL-URL:https://myrtletavern.co.uk
X-WR-CALDESC:Events for The Myrtle Tavern
REFRESH-INTERVAL;VALUE=DURATION:PT1H
X-Robots-Tag:noindex
X-PUBLISHED-TTL:PT1H
BEGIN:VTIMEZONE
TZID:Europe/London
BEGIN:DAYLIGHT
TZOFFSETFROM:+0000
TZOFFSETTO:+0100
TZNAME:BST
DTSTART:20240331T010000
END:DAYLIGHT
BEGIN:STANDARD
TZOFFSETFROM:+0100
TZOFFSETTO:+0000
TZNAME:GMT
DTSTART:20241027T010000
END:STANDARD
BEGIN:DAYLIGHT
TZOFFSETFROM:+0000
TZOFFSETTO:+0100
TZNAME:BST
DTSTART:20250330T010000
END:DAYLIGHT
BEGIN:STANDARD
TZOFFSETFROM:+0100
TZOFFSETTO:+0000
TZNAME:GMT
DTSTART:20251026T010000
END:STANDARD
BEGIN:DAYLIGHT
TZOFFSETFROM:+0000
TZOFFSETTO:+0100
TZNAME:BST
DTSTART:20260329T010000
END:DAYLIGHT
BEGIN:STANDARD
TZOFFSETFROM:+0100
TZOFFSETTO:+0000
TZNAME:GMT
DTSTART:20261025T010000
END:STANDARD
END:VTIMEZONE
BEGIN:VEVENT
DTSTART;TZID=Europe/London:20250605T190000
DTEND;TZID=Europe/London:20250605T230000
DTSTAMP:20260421T110046
CREATED:20250501T150839Z
LAST-MODIFIED:20250501T150840Z
UID:4423-1749150000-1749164400@myrtletavern.co.uk
SUMMARY:Rock & Roll Bingo Pride Special
DESCRIPTION:We’re turning up the volume for a night of absolute bangers! Think Pride anthems\, Pop Icons\, Disco Divas and Musicals you can’t help but sing along to! \n\n\n\nTickets are just £6 per person and includes all games with Rock & Roll Bingo\, a music quiz full of throwback tunes and guilty pleasures\, plus Play Your Cards Right for a chance to win big! \n\n\n\nRound up your teams\, kings and queens for a great night out. \n\n\n\n\nBOOK NOW
URL:https://myrtletavern.co.uk/event/rock-roll-bingo-pride-special/
LOCATION:The Myrtle Tavern\, Parkside Road\, Leeds\, LS6 4NE\, United Kingdom
CATEGORIES:Quiz
ATTACH;FMTTYPE=image/jpeg:https://myrtletavern.co.uk/wp-content/uploads/2025/05/Pride-rock-and-roll-bing-special.jpg
END:VEVENT
END:VCALENDAR