BEGIN:VCALENDAR
VERSION:2.0
PRODID:-//The Myrtle Tavern - ECPv6.15.20//NONSGML v1.0//EN
CALSCALE:GREGORIAN
METHOD:PUBLISH
X-WR-CALNAME:The Myrtle Tavern
X-ORIGINAL-URL:https://myrtletavern.co.uk
X-WR-CALDESC:Events for The Myrtle Tavern
REFRESH-INTERVAL;VALUE=DURATION:PT1H
X-Robots-Tag:noindex
X-PUBLISHED-TTL:PT1H
BEGIN:VTIMEZONE
TZID:Europe/London
BEGIN:DAYLIGHT
TZOFFSETFROM:+0000
TZOFFSETTO:+0100
TZNAME:BST
DTSTART:20240331T010000
END:DAYLIGHT
BEGIN:STANDARD
TZOFFSETFROM:+0100
TZOFFSETTO:+0000
TZNAME:GMT
DTSTART:20241027T010000
END:STANDARD
BEGIN:DAYLIGHT
TZOFFSETFROM:+0000
TZOFFSETTO:+0100
TZNAME:BST
DTSTART:20250330T010000
END:DAYLIGHT
BEGIN:STANDARD
TZOFFSETFROM:+0100
TZOFFSETTO:+0000
TZNAME:GMT
DTSTART:20251026T010000
END:STANDARD
BEGIN:DAYLIGHT
TZOFFSETFROM:+0000
TZOFFSETTO:+0100
TZNAME:BST
DTSTART:20260329T010000
END:DAYLIGHT
BEGIN:STANDARD
TZOFFSETFROM:+0100
TZOFFSETTO:+0000
TZNAME:GMT
DTSTART:20261025T010000
END:STANDARD
END:VTIMEZONE
BEGIN:VEVENT
DTSTART;TZID=Europe/London:20250603T190000
DTEND;TZID=Europe/London:20250603T210000
DTSTAMP:20260419T171126
CREATED:20250521T080536Z
LAST-MODIFIED:20250521T083730Z
UID:4439-1748977200-1748984400@myrtletavern.co.uk
SUMMARY:Book & Pudding Club
DESCRIPTION:Join us on the first Tuesday of the month enjoy a cosy evening of good reads and great puddings for just £13 per person \n\n\n\nEmail Sarah at bookandpuddingclub.meanwood@gmail.com to book or visit thebooktaster.com
URL:https://myrtletavern.co.uk/event/book-pudding-club/
LOCATION:The Myrtle Tavern\, Parkside Road\, Leeds\, LS6 4NE\, United Kingdom
ATTACH;FMTTYPE=image/jpeg:https://myrtletavern.co.uk/wp-content/uploads/2025/05/Book-and-Pudding-Club-June.jpg
END:VEVENT
END:VCALENDAR