BEGIN:VCALENDAR
VERSION:2.0
PRODID:-//The Myrtle Tavern - ECPv6.15.20//NONSGML v1.0//EN
CALSCALE:GREGORIAN
METHOD:PUBLISH
X-ORIGINAL-URL:https://myrtletavern.co.uk
X-WR-CALDESC:Events for The Myrtle Tavern
REFRESH-INTERVAL;VALUE=DURATION:PT1H
X-Robots-Tag:noindex
X-PUBLISHED-TTL:PT1H
BEGIN:VTIMEZONE
TZID:Europe/London
BEGIN:DAYLIGHT
TZOFFSETFROM:+0000
TZOFFSETTO:+0100
TZNAME:BST
DTSTART:20240331T010000
END:DAYLIGHT
BEGIN:STANDARD
TZOFFSETFROM:+0100
TZOFFSETTO:+0000
TZNAME:GMT
DTSTART:20241027T010000
END:STANDARD
BEGIN:DAYLIGHT
TZOFFSETFROM:+0000
TZOFFSETTO:+0100
TZNAME:BST
DTSTART:20250330T010000
END:DAYLIGHT
BEGIN:STANDARD
TZOFFSETFROM:+0100
TZOFFSETTO:+0000
TZNAME:GMT
DTSTART:20251026T010000
END:STANDARD
BEGIN:DAYLIGHT
TZOFFSETFROM:+0000
TZOFFSETTO:+0100
TZNAME:BST
DTSTART:20260329T010000
END:DAYLIGHT
BEGIN:STANDARD
TZOFFSETFROM:+0100
TZOFFSETTO:+0000
TZNAME:GMT
DTSTART:20261025T010000
END:STANDARD
END:VTIMEZONE
BEGIN:VEVENT
DTSTART;TZID=Europe/London:20250505T140000
DTEND;TZID=Europe/London:20250505T160000
DTSTAMP:20260421T123519
CREATED:20250403T102907Z
LAST-MODIFIED:20250403T102909Z
UID:4381-1746453600-1746460800@myrtletavern.co.uk
SUMMARY:Live Music with Danny Clement
DESCRIPTION:Local singer song writer Danny Clement who played in the Myrtle as a teenager has now released music and recently toured with Embrace  \n\n\n\nHe’ll be plying a live gig on Bank Holiday Monday \n\n\n\n\n\n\n\nFollow his journey @dannyclement_official and show him some love and local support on his social media Chanels.   \n\n\n\n\n\n\nFOLLOW DANNY ON INSTAGRAM\n\n\n\n\n\n\n\nFOLLOW DANNY ON TIKTOK
URL:https://myrtletavern.co.uk/event/live-music-with-danny-clement/
LOCATION:The Myrtle Tavern\, Parkside Road\, Leeds\, LS6 4NE\, United Kingdom
ATTACH;FMTTYPE=image/jpeg:https://myrtletavern.co.uk/wp-content/uploads/2025/04/DannyClementliveonstage-9900000000079e3c.jpg
END:VEVENT
END:VCALENDAR