BEGIN:VCALENDAR
VERSION:2.0
PRODID:-//The Myrtle Tavern - ECPv6.15.20//NONSGML v1.0//EN
CALSCALE:GREGORIAN
METHOD:PUBLISH
X-WR-CALNAME:The Myrtle Tavern
X-ORIGINAL-URL:https://myrtletavern.co.uk
X-WR-CALDESC:Events for The Myrtle Tavern
REFRESH-INTERVAL;VALUE=DURATION:PT1H
X-Robots-Tag:noindex
X-PUBLISHED-TTL:PT1H
BEGIN:VTIMEZONE
TZID:Europe/London
BEGIN:DAYLIGHT
TZOFFSETFROM:+0000
TZOFFSETTO:+0100
TZNAME:BST
DTSTART:20240331T010000
END:DAYLIGHT
BEGIN:STANDARD
TZOFFSETFROM:+0100
TZOFFSETTO:+0000
TZNAME:GMT
DTSTART:20241027T010000
END:STANDARD
BEGIN:DAYLIGHT
TZOFFSETFROM:+0000
TZOFFSETTO:+0100
TZNAME:BST
DTSTART:20250330T010000
END:DAYLIGHT
BEGIN:STANDARD
TZOFFSETFROM:+0100
TZOFFSETTO:+0000
TZNAME:GMT
DTSTART:20251026T010000
END:STANDARD
BEGIN:DAYLIGHT
TZOFFSETFROM:+0000
TZOFFSETTO:+0100
TZNAME:BST
DTSTART:20260329T010000
END:DAYLIGHT
BEGIN:STANDARD
TZOFFSETFROM:+0100
TZOFFSETTO:+0000
TZNAME:GMT
DTSTART:20261025T010000
END:STANDARD
END:VTIMEZONE
BEGIN:VEVENT
DTSTART;TZID=Europe/London:20250316T190000
DTEND;TZID=Europe/London:20250316T200000
DTSTAMP:20260423T162223
CREATED:20240108T165437Z
LAST-MODIFIED:20250115T120811Z
UID:4059-1742151600-1742155200@myrtletavern.co.uk
SUMMARY:The Assumption Band
DESCRIPTION:Join us on Sunday the 17th as The Assumption Band takes the stage\, led by the incredible Mick Teggart! Starting at 7pm for a sensational blend of Country & Western\, and Irish melodies that’ll have you dancing and singing along. \n\n\n\nAnother FREE to attend event\, simply turn up. If you’d like to guarantee a table\, book to dine with us at 6pm
URL:https://myrtletavern.co.uk/event/the-assumption-band/
LOCATION:The Myrtle Tavern\, Parkside Road\, Leeds\, LS6 4NE\, United Kingdom
ATTACH;FMTTYPE=image/jpeg:https://myrtletavern.co.uk/wp-content/uploads/2024/01/Irish-music.jpg
END:VEVENT
END:VCALENDAR